BEGIN:VCALENDAR
VERSION:2.0
CREATED:20260327T150125Z
PRODID:-//Calix\, Inc./Equisolve Calendar v1.0//EN
METHOD:PUBLISH
BEGIN:VEVENT
UID:f77c4a44709a38d388ed7cfa02ba96ab
DTSTAMP:20260424T050840Z
DTSTART:20260514T174500Z
DTEND:20260514T184500Z
SUMMARY:Annual Meeting of Stockholders
DESCRIPTION:Annual Meeting of Stockholders\nDate: May 14\, 2026 10:45 am PDT\nWebcast: https://east.virtualshareholdermeeting.com/vsm/web?pvskey=CALX2026
END:VEVENT
END:VCALENDAR
